BEGIN:VCALENDAR
VERSION:2.0
CALSCALE:GREGORIAN
METHOD:PUBLISH
PRODID://SEAC//182105
BEGIN:VEVENT
DTSTAMP:20260424T221405
VTIMEZONE:America/Denver
DTSTART:20251030T140000Z
DTEND:20251030T150000Z
UID:182105
SUMMARY:SEAC Board of Directors Meeting
LOCATION:Zoom
DESCRIPTION:SEAC Board of Directors Meeting\n\n10/30/25 08:00 AM MST\n - 10/30/25 09:00 AM MST\Description:\nContact SEAC Administrator Dawn Miller at administrator@seacolorado.org if you are interested in attending.\Location:\nZoom\n\n,
X-ALT-DESC;FMTTYPE=text/html:SEAC Board of Directors Meeting<br /><br />10/30/25 08:00 AM MST - 10/30/25 09:00 AM MST<br />Description:<br />Contact SEAC Administrator Dawn Miller at<a href="mailto:administrator@seacolorado.org"> administrator@seacolorado.org</a> if you are interested in attending.<br />Location:<br />Zoom<br /><br />,  
PRIORITY:3
TRANSP:TRANSPARENT
BEGIN:VALARM
TRIGGER:-PT5M
ACTION:DISPLAY
DESCRIPTION:Reminder
END:VALARM
END:VEVENT
END:VCALENDAR
