BEGIN:VCALENDAR
VERSION:2.0
CALSCALE:GREGORIAN
METHOD:PUBLISH
PRODID://SEAC//182755
BEGIN:VEVENT
DTSTAMP:20260425T071524
VTIMEZONE:America/Denver
DTSTART:20251209T150000Z
DTEND:20251209T163000Z
UID:182755
SUMMARY:SEAC Existing Structures Committee Meeting
LOCATION:J.R. Harris & Company, 1775 Sherman Street Suite 2000, Denver, CO, 80203
DESCRIPTION:SEAC Existing Structures Committee Meeting\n\n12/09/25 08:00 AM MST\n - 12/09/25 09:30 AM MST\Description:\nFor the virtual link to this committee meeting contact Ben Cook at ben.cook@jrharrisandco.com\Location:\nJ.R. Harris & Company\n1775 Sherman Street Suite 2000\nDenver, CO 80203
X-ALT-DESC;FMTTYPE=text/html:SEAC Existing Structures Committee Meeting<br /><br />12/09/25 08:00 AM MST - 12/09/25 09:30 AM MST<br />Description:<br /><span style="font-size:14px">For the virtual link to this committee meeting contact Ben Cook at <span style="font-family:arial,helvetica,sans-serif"><a href="mailto:ben.cook@jrharrisandco.com">ben.cook@jrharrisandco.com</a></span></span><br />Location:<br />J.R. Harris & Company<br />1775 Sherman Street Suite 2000<br />Denver, CO 80203
PRIORITY:3
TRANSP:TRANSPARENT
BEGIN:VALARM
TRIGGER:-PT5M
ACTION:DISPLAY
DESCRIPTION:Reminder
END:VALARM
END:VEVENT
END:VCALENDAR
