BEGIN:VCALENDAR
VERSION:2.0
CALSCALE:GREGORIAN
METHOD:PUBLISH
PRODID://SEAC//204792
BEGIN:VEVENT
DTSTAMP:20260424T221324
VTIMEZONE:America/Denver
DTSTART:20260109T150000Z
DTEND:20260109T160000Z
UID:204792
SUMMARY:SEAC Education Committee Meeting
LOCATION:Virtual
DESCRIPTION:SEAC Education Committee Meeting\n\n01/09/26 08:00 AM MST\n - 01/09/26 09:00 AM MST\Location:\nVirtual\n\n,
X-ALT-DESC;FMTTYPE=text/html:SEAC Education Committee Meeting<br /><br />01/09/26 08:00 AM MST - 01/09/26 09:00 AM MST<br />Location:<br />Virtual<br /><br />,  
PRIORITY:3
TRANSP:TRANSPARENT
BEGIN:VALARM
TRIGGER:-PT5M
ACTION:DISPLAY
DESCRIPTION:Reminder
END:VALARM
END:VEVENT
END:VCALENDAR
