BEGIN:VCALENDAR
VERSION:2.0
CALSCALE:GREGORIAN
METHOD:PUBLISH
PRODID://SEAC//204794
BEGIN:VEVENT
DTSTAMP:20260424T190501
VTIMEZONE:America/Denver
DTSTART:20260213T150000Z
DTEND:20260213T160000Z
UID:204794
SUMMARY:SEAC Education Committee Meeting
LOCATION:Virtual
DESCRIPTION:SEAC Education Committee Meeting\n\n02/13/26 08:00 AM MST\n - 02/13/26 09:00 AM MST\Location:\nVirtual\n\n,
X-ALT-DESC;FMTTYPE=text/html:SEAC Education Committee Meeting<br /><br />02/13/26 08:00 AM MST - 02/13/26 09:00 AM MST<br />Location:<br />Virtual<br /><br />,  
PRIORITY:3
TRANSP:TRANSPARENT
BEGIN:VALARM
TRIGGER:-PT5M
ACTION:DISPLAY
DESCRIPTION:Reminder
END:VALARM
END:VEVENT
END:VCALENDAR
