BEGIN:VCALENDAR
VERSION:2.0
CALSCALE:GREGORIAN
METHOD:PUBLISH
PRODID://SEAC//204799
BEGIN:VEVENT
DTSTAMP:20260424T143201
VTIMEZONE:America/Denver
DTSTART:20260710T140000Z
DTEND:20260710T150000Z
UID:204799
SUMMARY:SEAC Education Committee Meeting
LOCATION:Virtual
DESCRIPTION:SEAC Education Committee Meeting\n\n07/10/26 08:00 AM MST\n - 07/10/26 09:00 AM MST\Location:\nVirtual\n\n,
X-ALT-DESC;FMTTYPE=text/html:SEAC Education Committee Meeting<br /><br />07/10/26 08:00 AM MST - 07/10/26 09:00 AM MST<br />Location:<br />Virtual<br /><br />,  
PRIORITY:3
TRANSP:TRANSPARENT
BEGIN:VALARM
TRIGGER:-PT5M
ACTION:DISPLAY
DESCRIPTION:Reminder
END:VALARM
END:VEVENT
END:VCALENDAR
