BEGIN:VCALENDAR
VERSION:2.0
CALSCALE:GREGORIAN
METHOD:PUBLISH
PRODID://SEAC//204801
BEGIN:VEVENT
DTSTAMP:20260425T132914
VTIMEZONE:America/Denver
DTSTART:20260911T140000Z
DTEND:20260911T150000Z
UID:204801
SUMMARY:SEAC Education Committee Meeting
LOCATION:Virtual
DESCRIPTION:SEAC Education Committee Meeting\n\n09/11/26 08:00 AM MST\n - 09/11/26 09:00 AM MST\Location:\nVirtual\n\n,
X-ALT-DESC;FMTTYPE=text/html:SEAC Education Committee Meeting<br /><br />09/11/26 08:00 AM MST - 09/11/26 09:00 AM MST<br />Location:<br />Virtual<br /><br />,  
PRIORITY:3
TRANSP:TRANSPARENT
BEGIN:VALARM
TRIGGER:-PT5M
ACTION:DISPLAY
DESCRIPTION:Reminder
END:VALARM
END:VEVENT
END:VCALENDAR
