BEGIN:VCALENDAR
VERSION:2.0
CALSCALE:GREGORIAN
METHOD:PUBLISH
PRODID://SEAC//204806
BEGIN:VEVENT
DTSTAMP:20260424T190359
VTIMEZONE:America/Denver
DTSTART:20260304T190000Z
DTEND:20260304T201500Z
UID:204806
SUMMARY:SEAC Sustainable Design Committee Meeting
LOCATION:Virtual
DESCRIPTION:SEAC Sustainable Design Committee Meeting\n\n03/04/26 12:00 PM MST\n - 03/04/26 01:15 PM MST\Location:\nVirtual\n\n,
X-ALT-DESC;FMTTYPE=text/html:SEAC Sustainable Design Committee Meeting<br /><br />03/04/26 12:00 PM MST - 03/04/26 01:15 PM MST<br />Location:<br />Virtual<br /><br />,  
PRIORITY:3
TRANSP:TRANSPARENT
BEGIN:VALARM
TRIGGER:-PT5M
ACTION:DISPLAY
DESCRIPTION:Reminder
END:VALARM
END:VEVENT
END:VCALENDAR
