BEGIN:VCALENDAR
VERSION:2.0
CALSCALE:GREGORIAN
METHOD:PUBLISH
PRODID://SEAC//204807
BEGIN:VEVENT
DTSTAMP:20260424T172634
VTIMEZONE:America/Denver
DTSTART:20260422T180000Z
DTEND:20260422T191500Z
UID:204807
SUMMARY:SEAC Sustainable Design Committee Meeting
LOCATION:Martin Martin, 12499 West Colfax Avenue, Lakewood, CO, 80215
DESCRIPTION:SEAC Sustainable Design Committee Meeting\n\n04/22/26 12:00 PM MST\n - 04/22/26 01:15 PM MST\Location:\nMartin Martin\n12499 West Colfax Avenue\nLakewood, CO 80215
X-ALT-DESC;FMTTYPE=text/html:SEAC Sustainable Design Committee Meeting<br /><br />04/22/26 12:00 PM MST - 04/22/26 01:15 PM MST<br />Location:<br />Martin Martin<br />12499 West Colfax Avenue<br />Lakewood, CO 80215
PRIORITY:3
TRANSP:TRANSPARENT
BEGIN:VALARM
TRIGGER:-PT5M
ACTION:DISPLAY
DESCRIPTION:Reminder
END:VALARM
END:VEVENT
END:VCALENDAR
