BEGIN:VCALENDAR
VERSION:2.0
CALSCALE:GREGORIAN
METHOD:PUBLISH
PRODID://SEAC//204812
BEGIN:VEVENT
DTSTAMP:20260424T233755
VTIMEZONE:America/Denver
DTSTART:20260603T180000Z
DTEND:20260603T191500Z
UID:204812
SUMMARY:SEAC Sustainable Design Committee Meeting
LOCATION:Virtual
DESCRIPTION:SEAC Sustainable Design Committee Meeting\n\n06/03/26 12:00 PM MST\n - 06/03/26 01:15 PM MST\Location:\nVirtual\n\n,
X-ALT-DESC;FMTTYPE=text/html:SEAC Sustainable Design Committee Meeting<br /><br />06/03/26 12:00 PM MST - 06/03/26 01:15 PM MST<br />Location:<br />Virtual<br /><br />,  
PRIORITY:3
TRANSP:TRANSPARENT
BEGIN:VALARM
TRIGGER:-PT5M
ACTION:DISPLAY
DESCRIPTION:Reminder
END:VALARM
END:VEVENT
END:VCALENDAR
