BEGIN:VCALENDAR
VERSION:2.0
CALSCALE:GREGORIAN
METHOD:PUBLISH
PRODID://SEAC//204813
BEGIN:VEVENT
DTSTAMP:20260424T221437
VTIMEZONE:America/Denver
DTSTART:20260819T220000Z
DTEND:20260820T000000Z
UID:204813
SUMMARY:SEAC Sustainable Design Committee Summer Happy Hour
LOCATION:
DESCRIPTION:SEAC Sustainable Design Committee Summer Happy Hour\n\n08/19/26 04:00 PM MST\n - 08/19/26 06:00 PM MST
X-ALT-DESC;FMTTYPE=text/html:SEAC Sustainable Design Committee Summer Happy Hour<br /><br />08/19/26 04:00 PM MST - 08/19/26 06:00 PM MST
PRIORITY:3
TRANSP:TRANSPARENT
BEGIN:VALARM
TRIGGER:-PT5M
ACTION:DISPLAY
DESCRIPTION:Reminder
END:VALARM
END:VEVENT
END:VCALENDAR
