BEGIN:VCALENDAR
VERSION:2.0
CALSCALE:GREGORIAN
METHOD:PUBLISH
PRODID://SEAC//204818
BEGIN:VEVENT
DTSTAMP:20260424T124109
VTIMEZONE:America/Denver
DTSTART:20260930T180000Z
DTEND:20260930T191500Z
UID:204818
SUMMARY:SEAC Sustainable Design Committee Meeting
LOCATION:Virtual
DESCRIPTION:SEAC Sustainable Design Committee Meeting\n\n09/30/26 12:00 PM MST\n - 09/30/26 01:15 PM MST\Location:\nVirtual\n\n,
X-ALT-DESC;FMTTYPE=text/html:SEAC Sustainable Design Committee Meeting<br /><br />09/30/26 12:00 PM MST - 09/30/26 01:15 PM MST<br />Location:<br />Virtual<br /><br />,  
PRIORITY:3
TRANSP:TRANSPARENT
BEGIN:VALARM
TRIGGER:-PT5M
ACTION:DISPLAY
DESCRIPTION:Reminder
END:VALARM
END:VEVENT
END:VCALENDAR
