BEGIN:VCALENDAR
VERSION:2.0
CALSCALE:GREGORIAN
METHOD:PUBLISH
PRODID://SEAC//204819
BEGIN:VEVENT
DTSTAMP:20260424T092249
VTIMEZONE:America/Denver
DTSTART:20261111T190000Z
DTEND:20261111T201500Z
UID:204819
SUMMARY:SEAC Sustainable Design Committee Meeting
LOCATION:Virtual
DESCRIPTION:SEAC Sustainable Design Committee Meeting\n\n11/11/26 12:00 PM MST\n - 11/11/26 01:15 PM MST\Location:\nVirtual\n\n,
X-ALT-DESC;FMTTYPE=text/html:SEAC Sustainable Design Committee Meeting<br /><br />11/11/26 12:00 PM MST - 11/11/26 01:15 PM MST<br />Location:<br />Virtual<br /><br />,  
PRIORITY:3
TRANSP:TRANSPARENT
BEGIN:VALARM
TRIGGER:-PT5M
ACTION:DISPLAY
DESCRIPTION:Reminder
END:VALARM
END:VEVENT
END:VCALENDAR
