BEGIN:VCALENDAR
VERSION:2.0
CALSCALE:GREGORIAN
METHOD:PUBLISH
PRODID://SEAC//206446
BEGIN:VEVENT
DTSTAMP:20260425T103257
VTIMEZONE:America/Denver
DTSTART:20260813T133000Z
DTEND:20260813T150000Z
UID:206446
SUMMARY:SEAC Business Management Committee Meeting
LOCATION:Martin/Martin, 12499 W Colfax Ave, Lakewood, CO, 80215
DESCRIPTION:SEAC Business Management Committee Meeting\n\n08/13/26 07:30 AM MST\n - 08/13/26 09:00 AM MST\Description:\nContact Lacey Goetz, Integral Engineering Co. lacey@integralengineeringco.com  or Elizabeth Jones, Martin Martin - EJones@MartinMartin.com if you're interested in attending. Virtual attendance is also available.\Location:\nMartin/Martin\n12499 W Colfax Ave\nLakewood, CO 80215
X-ALT-DESC;FMTTYPE=text/html:SEAC Business Management Committee Meeting<br /><br />08/13/26 07:30 AM MST - 08/13/26 09:00 AM MST<br />Description:<br />Contact Lacey Goetz, Integral Engineering Co.&nbsp;<a href="mailto:lacey@integralengineeringco.com">lacey@integralengineeringco.com</a>&nbsp;&nbsp;or Elizabeth Jones, Martin Martin -&nbsp;<a data-linkindex="0" href="mailto:EJones@MartinMartin.com" title="mailto:EJones@MartinMartin.com">EJones@MartinMartin.com</a>&nbsp;if you're interested in attending. Virtual attendance is also available.<br />Location:<br />Martin/Martin<br />12499 W Colfax Ave<br />Lakewood, CO 80215
PRIORITY:3
TRANSP:TRANSPARENT
BEGIN:VALARM
TRIGGER:-PT5M
ACTION:DISPLAY
DESCRIPTION:Reminder
END:VALARM
END:VEVENT
END:VCALENDAR
