BEGIN:VCALENDAR
VERSION:2.0
CALSCALE:GREGORIAN
METHOD:PUBLISH
PRODID://SEAC//208595
BEGIN:VEVENT
DTSTAMP:20260424T112223
VTIMEZONE:America/Denver
DTSTART:20260310T130000Z
DTEND:20260310T143000Z
UID:208595
SUMMARY:SEAC Exisiting Structures Committee Meeting
LOCATION:J.R. Harris, 1775 Sherman St. #2000, Denver, CO, 80203
DESCRIPTION:SEAC Exisiting Structures Committee Meeting\n\n03/10/26 07:00 AM MST\n - 03/10/26 08:30 AM MST\Description:\nIf you are interested in joining, contact Ben Cook at ben.cook@jrharrisandco.com or  Donald Harvey at  dharvey@ana-usa.com\Location:\nJ.R. Harris\n1775 Sherman St. #2000\nDenver, CO 80203
X-ALT-DESC;FMTTYPE=text/html:SEAC Exisiting Structures Committee Meeting<br /><br />03/10/26 07:00 AM MST - 03/10/26 08:30 AM MST<br />Description:<br /><span style="font-size:14px"><span style="font-family:arial,helvetica,sans-serif">If you are interested in joining, contact&nbsp;</span></span><span style="font-size:14px"><span style="font-family:arial,helvetica,sans-serif">Ben Cook at&nbsp;<a href="mailto:ben.cook@jrharrisandco.com">ben.cook@jrharrisandco.com</a></span></span>&nbsp;or&nbsp;&nbsp;<span style="font-size:14px"><span style="font-family:arial,helvetica,sans-serif">Donald Harvey at&nbsp;<a href="mailto:dharvey@ana-usa.com"> dharvey@ana-usa.com</a></span></span><br />Location:<br />J.R. Harris<br />1775 Sherman St. #2000<br />Denver, CO 80203
PRIORITY:3
TRANSP:TRANSPARENT
BEGIN:VALARM
TRIGGER:-PT5M
ACTION:DISPLAY
DESCRIPTION:Reminder
END:VALARM
END:VEVENT
END:VCALENDAR
