BEGIN:VCALENDAR
VERSION:2.0
CALSCALE:GREGORIAN
METHOD:PUBLISH
PRODID://SEAC//208740
BEGIN:VEVENT
DTSTAMP:20260424T204422
VTIMEZONE:America/Denver
DTSTART:20260917T180000Z
DTEND:20260917T193000Z
UID:208740
SUMMARY:SEAC General Meeting
LOCATION:PPA Event Center, 2105 Decatur St., Denver, CO, 80211
DESCRIPTION:SEAC General Meeting\n\n09/17/26 12:00 PM MST\n - 09/17/26 01:30 PM MST\Location:\nPPA Event Center\n2105 Decatur St.\nDenver, CO 80211
X-ALT-DESC;FMTTYPE=text/html:SEAC General Meeting<br /><br />09/17/26 12:00 PM MST - 09/17/26 01:30 PM MST<br />Location:<br />PPA Event Center<br />2105 Decatur St.<br />Denver, CO 80211
PRIORITY:3
TRANSP:TRANSPARENT
BEGIN:VALARM
TRIGGER:-PT5M
ACTION:DISPLAY
DESCRIPTION:Reminder
END:VALARM
END:VEVENT
END:VCALENDAR
