BEGIN:VCALENDAR
VERSION:2.0
CALSCALE:GREGORIAN
METHOD:PUBLISH
PRODID://SEAC//209377
BEGIN:VEVENT
DTSTAMP:20260424T124033
VTIMEZONE:America/Denver
DTSTART:20260416T180000Z
DTEND:20260416T190000Z
UID:209377
SUMMARY:SEAC Wood Committee Meeting
LOCATION:Lam-Wood Systems, 1580 W. 47th Ave., Denver, CO, 80211
DESCRIPTION:SEAC Wood Committee Meeting\n\n04/16/26 12:00 PM MST\n - 04/16/26 01:00 PM MST\Description:\nIf you are interested in joining please contact Jeremy Crandall, Phone: 303-458-1736, wood@seacolorado.org \Location:\nLam-Wood Systems\n1580 W. 47th Ave.\nDenver, CO 80211
X-ALT-DESC;FMTTYPE=text/html:SEAC Wood Committee Meeting<br /><br />04/16/26 12:00 PM MST - 04/16/26 01:00 PM MST<br />Description:<br />If you are interested in joining please contact Jeremy Crandall, Phone: 303-458-1736, <a href="mailto:wood@seacolorado.org ">wood@seacolorado.org </a><br />Location:<br />Lam-Wood Systems<br />1580 W. 47th Ave.<br />Denver, CO 80211
PRIORITY:3
TRANSP:TRANSPARENT
BEGIN:VALARM
TRIGGER:-PT5M
ACTION:DISPLAY
DESCRIPTION:Reminder
END:VALARM
END:VEVENT
END:VCALENDAR
